BEGIN:VCALENDAR
VERSION:2.0
PRODID:spatie/icalendar-generator
DESCRIPTION:Veranstaltungen von Wenn ich mit Freunden sing&amp;#039\;
X-WR-CALDESC:Veranstaltungen von Wenn ich mit Freunden sing&amp;#039\;
REFRESH-INTERVAL;VALUE=DURATION:PT1440M
X-PUBLISHED-TTL:PT1440M
BEGIN:VTIMEZONE
TZID:Europe/Berlin
BEGIN:STANDARD
DTSTART:20251026T030000Z
TZOFFSETFROM:+0200
TZOFFSETTO:+0100
END:STANDARD
BEGIN:DAYLIGHT
DTSTART:20260329T020000Z
TZOFFSETFROM:+0100
TZOFFSETTO:+0200
END:DAYLIGHT
END:VTIMEZONE
BEGIN:VTIMEZONE
TZID:UTC
BEGIN:STANDARD
DTSTART:20250724T160320Z
TZOFFSETFROM:+0000
TZOFFSETTO:+0000
END:STANDARD
END:VTIMEZONE
BEGIN:VEVENT
UID:129-117
DTSTAMP:20260420T160320Z
SUMMARY:Verwaltungssitzung
LOCATION:
ORGANIZER;CN=bernd heim:MAILTO:bernd@prowebmotion.de
DTSTART;TZID=Europe/Berlin:20260326T190000
DTEND;TZID=Europe/Berlin:20260326T203000
X-ALT-DESC;FMTTYPE=TEXT/HTML:
CATEGORIES:Veranstaltungen
URL;VALUE=URI:https://saengerbund-wiesental.de/mc-events/verwaltungssitzung
 /
METHOD:PUBLISH
END:VEVENT
END:VCALENDAR